BEGIN:VCALENDAR
VERSION:2.0
PRODID:-//Olav&#039;s Kitchen - ECPv6.15.11//NONSGML v1.0//EN
CALSCALE:GREGORIAN
METHOD:PUBLISH
X-WR-CALNAME:Olav&#039;s Kitchen
X-ORIGINAL-URL:https://olavs-kitchen.de
X-WR-CALDESC:Veranstaltungen für Olav&#039;s Kitchen
REFRESH-INTERVAL;VALUE=DURATION:PT1H
X-Robots-Tag:noindex
X-PUBLISHED-TTL:PT1H
BEGIN:VTIMEZONE
TZID:Europe/Berlin
BEGIN:DAYLIGHT
TZOFFSETFROM:+0100
TZOFFSETTO:+0200
TZNAME:CEST
DTSTART:20200329T010000
END:DAYLIGHT
BEGIN:STANDARD
TZOFFSETFROM:+0200
TZOFFSETTO:+0100
TZNAME:CET
DTSTART:20201025T010000
END:STANDARD
BEGIN:DAYLIGHT
TZOFFSETFROM:+0100
TZOFFSETTO:+0200
TZNAME:CEST
DTSTART:20210328T010000
END:DAYLIGHT
BEGIN:STANDARD
TZOFFSETFROM:+0200
TZOFFSETTO:+0100
TZNAME:CET
DTSTART:20211031T010000
END:STANDARD
BEGIN:DAYLIGHT
TZOFFSETFROM:+0100
TZOFFSETTO:+0200
TZNAME:CEST
DTSTART:20220327T010000
END:DAYLIGHT
BEGIN:STANDARD
TZOFFSETFROM:+0200
TZOFFSETTO:+0100
TZNAME:CET
DTSTART:20221030T010000
END:STANDARD
BEGIN:DAYLIGHT
TZOFFSETFROM:+0100
TZOFFSETTO:+0200
TZNAME:CEST
DTSTART:20230326T010000
END:DAYLIGHT
BEGIN:STANDARD
TZOFFSETFROM:+0200
TZOFFSETTO:+0100
TZNAME:CET
DTSTART:20231029T010000
END:STANDARD
BEGIN:DAYLIGHT
TZOFFSETFROM:+0100
TZOFFSETTO:+0200
TZNAME:CEST
DTSTART:20240331T010000
END:DAYLIGHT
BEGIN:STANDARD
TZOFFSETFROM:+0200
TZOFFSETTO:+0100
TZNAME:CET
DTSTART:20241027T010000
END:STANDARD
BEGIN:DAYLIGHT
TZOFFSETFROM:+0100
TZOFFSETTO:+0200
TZNAME:CEST
DTSTART:20250330T010000
END:DAYLIGHT
BEGIN:STANDARD
TZOFFSETFROM:+0200
TZOFFSETTO:+0100
TZNAME:CET
DTSTART:20251026T010000
END:STANDARD
BEGIN:DAYLIGHT
TZOFFSETFROM:+0100
TZOFFSETTO:+0200
TZNAME:CEST
DTSTART:20260329T010000
END:DAYLIGHT
BEGIN:STANDARD
TZOFFSETFROM:+0200
TZOFFSETTO:+0100
TZNAME:CET
DTSTART:20261025T010000
END:STANDARD
BEGIN:DAYLIGHT
TZOFFSETFROM:+0100
TZOFFSETTO:+0200
TZNAME:CEST
DTSTART:20270328T010000
END:DAYLIGHT
BEGIN:STANDARD
TZOFFSETFROM:+0200
TZOFFSETTO:+0100
TZNAME:CET
DTSTART:20271031T010000
END:STANDARD
END:VTIMEZONE
BEGIN:VEVENT
DTSTART;TZID=Europe/Berlin:20260416T190000
DTEND;TZID=Europe/Berlin:20260416T230000
DTSTAMP:20260420T113108
CREATED:20251208T172251Z
LAST-MODIFIED:20251208T172251Z
UID:1477-1776366000-1776380400@olavs-kitchen.de
SUMMARY:Ein Andalusischer Abend
DESCRIPTION:Preis: 95€*\nLass dich verzaubern von der Vielfalt der andalusischen Küche. \nDazu spanische Weine auf der Höhe der Zeit. \n  \n*Alle Preise verstehen sich inkl. MwSt. und pro Person. Der Genussbeitrag beinhaltet in der Regel ein 4-Gänge-Menü inkl. aller Getränke. Irrtümer und Änderungen vorbehalten!\n  \n 
URL:https://olavs-kitchen.de/kurs/ein-andalusischer-abend/
LOCATION:Olav’s Kitchen – Küchenstudio\, Meelbaumstrasse 5\, Hannover\, 30165\, Germany
CATEGORIES:Kochkurs
ORGANIZER;CN="Olav's Kitchen":MAILTO:olavskitchengmbh@gmail.com
END:VEVENT
BEGIN:VEVENT
DTSTART;TZID=Europe/Berlin:20260409T190000
DTEND;TZID=Europe/Berlin:20260409T230000
DTSTAMP:20260420T113108
CREATED:20251208T172121Z
LAST-MODIFIED:20251208T172121Z
UID:1475-1775761200-1775775600@olavs-kitchen.de
SUMMARY:Thai Küche 1
DESCRIPTION:Preis: 90€*\nDie besten thailändischen Rezepte zum einfachen Nachkochen. \nMit geheimen Tipps & Tricks von Mr. Wen. \n  \n*Alle Preise verstehen sich inkl. MwSt. und pro Person. Der Genussbeitrag beinhaltet in der Regel ein 4-Gänge-Menü inkl. aller Getränke. Irrtümer und Änderungen vorbehalten!\n  \n 
URL:https://olavs-kitchen.de/kurs/thai-kueche-1/
LOCATION:Olav’s Kitchen – Küchenstudio\, Meelbaumstrasse 5\, Hannover\, 30165\, Germany
CATEGORIES:Kochkurs
END:VEVENT
BEGIN:VEVENT
DTSTART;TZID=Europe/Berlin:20260324T190000
DTEND;TZID=Europe/Berlin:20260324T230000
DTSTAMP:20260420T113108
CREATED:20251208T172012Z
LAST-MODIFIED:20251208T172012Z
UID:1473-1774378800-1774393200@olavs-kitchen.de
SUMMARY:Easy-Cooking - Unkomplizierte und schnelle Küche
DESCRIPTION:Preis: 85€*\nVon der Arbeit nach Hause und dann mit Hunger an den Herd. \nWenn das immer so einfach wäre. Mit wenig Aufwand schnell etwas Gutes zubereiten\, darum geht es an diesem Abend. \n  \n*Alle Preise verstehen sich inkl. MwSt. und pro Person. Der Genussbeitrag beinhaltet in der Regel ein 4-Gänge-Menü inkl. aller Getränke. Irrtümer und Änderungen vorbehalten!\n  \n 
URL:https://olavs-kitchen.de/kurs/easy-cooking-unkomplizierte-und-schnelle-kueche/
LOCATION:Olav’s Kitchen – Küchenstudio\, Meelbaumstrasse 5\, Hannover\, 30165\, Germany
CATEGORIES:Kochkurs
END:VEVENT
BEGIN:VEVENT
DTSTART;TZID=Europe/Berlin:20260317T190000
DTEND;TZID=Europe/Berlin:20260317T230000
DTSTAMP:20260420T113108
CREATED:20251208T171756Z
LAST-MODIFIED:20251208T171756Z
UID:1469-1773774000-1773788400@olavs-kitchen.de
SUMMARY:Eine kulinarische Reise durch die Toskana 1
DESCRIPTION:Preis: 95€*\nSonne\, Meer\, weite Landschaften und guter Wein. \nErlebe das Gefühl von frischen Zutaten und der duftenden Küche der Toskana. \nNicht nur ein Schmaus für den Gaumen\, sondern dazu auch noch super gesund. \n  \n*Alle Preise verstehen sich inkl. MwSt. und pro Person. Der Genussbeitrag beinhaltet in der Regel ein 4-Gänge-Menü inkl. aller Getränke. Irrtümer und Änderungen vorbehalten!\n  \n 
URL:https://olavs-kitchen.de/kurs/eine-kulinarische-reise-durch-die-toskana-1/
LOCATION:Olav’s Kitchen – Küchenstudio\, Meelbaumstrasse 5\, Hannover\, 30165\, Germany
CATEGORIES:Kochkurs
END:VEVENT
BEGIN:VEVENT
DTSTART;TZID=Europe/Berlin:20260312T190000
DTEND;TZID=Europe/Berlin:20260312T230000
DTSTAMP:20260420T113108
CREATED:20251208T171531Z
LAST-MODIFIED:20251208T171531Z
UID:1468-1773342000-1773356400@olavs-kitchen.de
SUMMARY:Gin & Cook
DESCRIPTION:Preis: 115€*\nKann man ein 4-Gänge-Menü mit Gin kombinieren? \n„ja natürlich!“\, sagt Michael Kohlster\, unser Mann für Hochprozentiges. \nDie Aromenvielfalt ist bei Gin viel höher als bei anderen Spirituosen. \nGINspirationen + 4-Gänge und viel Spaß in der Küche. \n  \n*Alle Preise verstehen sich inkl. MwSt. und pro Person. Der Genussbeitrag beinhaltet in der Regel ein 4-Gänge-Menü inkl. aller Getränke. Irrtümer und Änderungen vorbehalten!\n  \n 
URL:https://olavs-kitchen.de/kurs/gin-cook/
LOCATION:Olav’s Kitchen – Küchenstudio\, Meelbaumstrasse 5\, Hannover\, 30165\, Germany
CATEGORIES:Kochkurs
END:VEVENT
BEGIN:VEVENT
DTSTART;TZID=Europe/Berlin:20260305T190000
DTEND;TZID=Europe/Berlin:20260305T230000
DTSTAMP:20260420T113108
CREATED:20251208T171318Z
LAST-MODIFIED:20251208T171318Z
UID:1467-1772737200-1772751600@olavs-kitchen.de
SUMMARY:Mediterranes Frühlingserwachen
DESCRIPTION:Preis: 95€*\nVon Venedig nach Nizza. \nEine Rundreise entlang am Mittelmeer\, vorbei an Sizilien\, mit Weinen aus den Regionen. \n  \n*Alle Preise verstehen sich inkl. MwSt. und pro Person. Der Genussbeitrag beinhaltet in der Regel ein 4-Gänge-Menü inkl. aller Getränke. Irrtümer und Änderungen vorbehalten!\n  \n 
URL:https://olavs-kitchen.de/kurs/mediterranes-fruehlingserwachen/
LOCATION:Olav’s Kitchen – Küchenstudio\, Meelbaumstrasse 5\, Hannover\, 30165\, Germany
CATEGORIES:Kochkurs
END:VEVENT
BEGIN:VEVENT
DTSTART;TZID=Europe/Berlin:20260226T190000
DTEND;TZID=Europe/Berlin:20260226T230000
DTSTAMP:20260420T113108
CREATED:20251208T171822Z
LAST-MODIFIED:20251208T171822Z
UID:1466-1772132400-1772146800@olavs-kitchen.de
SUMMARY:Gentleman's Club Night 1
DESCRIPTION:Preis: 120€*\nGenuss pur! \nVom Whiskey-Aperitiv\, Whiskey- und Zigarren Tasting bis hin zum leckeren Whiskey-Menü. \n  \n*Alle Preise verstehen sich inkl. MwSt. und pro Person. Der Genussbeitrag beinhaltet in der Regel ein 4-Gänge-Menü inkl. aller Getränke. Irrtümer und Änderungen vorbehalten!\n  \n 
URL:https://olavs-kitchen.de/kurs/gentlemans-club-night-1/
LOCATION:Olav’s Kitchen – Küchenstudio\, Meelbaumstrasse 5\, Hannover\, 30165\, Germany
CATEGORIES:Kochkurs
END:VEVENT
BEGIN:VEVENT
DTSTART;TZID=Europe/Berlin:20260219T190000
DTEND;TZID=Europe/Berlin:20260219T230000
DTSTAMP:20260420T113108
CREATED:20251208T171004Z
LAST-MODIFIED:20251208T171004Z
UID:1460-1771527600-1771542000@olavs-kitchen.de
SUMMARY:Tapas Buffet
DESCRIPTION:Preis: 85€*\nEntdecke die vielfältige Welt der Tapas. Mehr als nur eine spanische Vorspeise mit kleinen raffinierten Köstlichkeiten und den dazu passenden Weinen. \n  \n*Alle Preise verstehen sich inkl. MwSt. und pro Person. Der Genussbeitrag beinhaltet in der Regel ein 4-Gänge-Menü inkl. aller Getränke. Irrtümer und Änderungen vorbehalten!\n  \n 
URL:https://olavs-kitchen.de/kurs/tapas-buffet/
LOCATION:Olav’s Kitchen – Küchenstudio\, Meelbaumstrasse 5\, Hannover\, 30165\, Germany
CATEGORIES:Kochkurs
END:VEVENT
BEGIN:VEVENT
DTSTART;TZID=Europe/Berlin:20260217T190000
DTEND;TZID=Europe/Berlin:20260217T230000
DTSTAMP:20260420T113108
CREATED:20251208T170832Z
LAST-MODIFIED:20251208T170832Z
UID:1459-1771354800-1771369200@olavs-kitchen.de
SUMMARY:Valentines Cooking
DESCRIPTION:Preis: 170€* pro Paar!\nEin kulinarisches Rendezvous für Paare\, welches Appetit auf mehr macht! \nVier Gänge mit auf- und anregenden Geschmackserlebnissen. \n  \n*Alle Preise verstehen sich inkl. MwSt. und pro Person. Der Genussbeitrag beinhaltet in der Regel ein 4-Gänge-Menü inkl. aller Getränke. Irrtümer und Änderungen vorbehalten!\n  \n 
URL:https://olavs-kitchen.de/kurs/valentines-cooking/
LOCATION:Olav’s Kitchen – Küchenstudio\, Meelbaumstrasse 5\, Hannover\, 30165\, Germany
CATEGORIES:Kochkurs
END:VEVENT
BEGIN:VEVENT
DTSTART;TZID=Europe/Berlin:20260212T190000
DTEND;TZID=Europe/Berlin:20260212T230000
DTSTAMP:20260420T113108
CREATED:20251208T170653Z
LAST-MODIFIED:20251208T170653Z
UID:1458-1770922800-1770937200@olavs-kitchen.de
SUMMARY:New Wave
DESCRIPTION:Preis: 100€*\nAsia Crossover \n  \n*Alle Preise verstehen sich inkl. MwSt. und pro Person. Der Genussbeitrag beinhaltet in der Regel ein 4-Gänge-Menü inkl. aller Getränke. Irrtümer und Änderungen vorbehalten!\n  \n 
URL:https://olavs-kitchen.de/kurs/new-wave/
LOCATION:Olav’s Kitchen – Küchenstudio\, Meelbaumstrasse 5\, Hannover\, 30165\, Germany
CATEGORIES:Kochkurs
END:VEVENT
BEGIN:VEVENT
DTSTART;TZID=Europe/Berlin:20260210T190000
DTEND;TZID=Europe/Berlin:20260210T230000
DTSTAMP:20260420T113108
CREATED:20251208T170539Z
LAST-MODIFIED:20251208T170656Z
UID:1457-1770750000-1770764400@olavs-kitchen.de
SUMMARY:Street Food
DESCRIPTION:Preis: 85€*\nDer Trend passt zum Zeitgeist. Auf dem Markt\, auf die Hand! \nWir begeistern dich für schnelles\, kreatives Essen aus qualitativ hochwertigen Zutaten. \nVon Thaisuppe über Pulled Pork bis hin zu erstklassigen Burgern! \n  \n*Alle Preise verstehen sich inkl. MwSt. und pro Person. Der Genussbeitrag beinhaltet in der Regel ein 4-Gänge-Menü inkl. aller Getränke. Irrtümer und Änderungen vorbehalten!\n  \n 
URL:https://olavs-kitchen.de/kurs/street-food/
LOCATION:Olav’s Kitchen – Küchenstudio\, Meelbaumstrasse 5\, Hannover\, 30165\, Germany
CATEGORIES:Kochkurs
END:VEVENT
BEGIN:VEVENT
DTSTART;TZID=Europe/Berlin:20260129T190000
DTEND;TZID=Europe/Berlin:20260129T230000
DTSTAMP:20260420T113108
CREATED:20251208T170134Z
LAST-MODIFIED:20251208T170134Z
UID:1455-1769713200-1769727600@olavs-kitchen.de
SUMMARY:Burger Deluxe 1
DESCRIPTION:Preis: 85€*\nDer neue Kurs bei uns. Ein Burger ist schon lange nicht nur ein Patty\, Garnitur und ein Bun. \nDieser Kurs zelebriertdie gehobene Variante des Burgers. \n  \n*Alle Preise verstehen sich inkl. MwSt. und pro Person. Der Genussbeitrag beinhaltet in der Regel ein 4-Gänge-Menü inkl. aller Getränke. Irrtümer und Änderungen vorbehalten!\n  \n 
URL:https://olavs-kitchen.de/kurs/burger-deluxe-1/
LOCATION:Olav’s Kitchen – Küchenstudio\, Meelbaumstrasse 5\, Hannover\, 30165\, Germany
CATEGORIES:Kochkurs
END:VEVENT
BEGIN:VEVENT
DTSTART;TZID=Europe/Berlin:20260122T190000
DTEND;TZID=Europe/Berlin:20260122T230000
DTSTAMP:20260420T113108
CREATED:20251014T112908Z
LAST-MODIFIED:20251208T165842Z
UID:1410-1769108400-1769122800@olavs-kitchen.de
SUMMARY:Mallorquinische Frühlingsküche
DESCRIPTION:Preis: 85€*\nKochen und essen\, wie im Urlaub! \nGambas in scharfer Knoblauchsauce oder Malloquinische Orangenpizza\, Wolfsbarsch mit grüner Mojo – da fühlt man sich doch wie auf der „Insel“! \n  \n*Alle Preise verstehen sich inkl. MwSt. und pro Person. Der Genussbeitrag beinhaltet in der Regel ein 4-Gänge-Menü inkl. aller Getränke. Irrtümer und Änderungen vorbehalten!\n  \n 
URL:https://olavs-kitchen.de/kurs/mallorquinische-fruehlingskueche/
LOCATION:Olav’s Kitchen – Küchenstudio\, Meelbaumstrasse 5\, Hannover\, 30165\, Germany
CATEGORIES:Kochkurs
ORGANIZER;CN="Olav's Kitchen":MAILTO:olavskitchengmbh@gmail.com
END:VEVENT
BEGIN:VEVENT
DTSTART;TZID=Europe/Berlin:20260115T190000
DTEND;TZID=Europe/Berlin:20260115T230000
DTSTAMP:20260420T113108
CREATED:20251208T165444Z
LAST-MODIFIED:20251208T165758Z
UID:1449-1768503600-1768518000@olavs-kitchen.de
SUMMARY:After Work Cooking Party
DESCRIPTION:Preis: 85€*\nAbends nach der Arbeit noch schnell etwas Leckeres kochen. \nGewusst wie! \nBei uns lernst du zauberhafte Gerichte in minimaler Zeit zuzubereiten. \n  \n*Alle Preise verstehen sich inkl. MwSt. und pro Person. Der Genussbeitrag beinhaltet in der Regel ein 4-Gänge-Menü inkl. aller Getränke. Irrtümer und Änderungen vorbehalten!
URL:https://olavs-kitchen.de/kurs/after-work-cooking-party/
LOCATION:Olav’s Kitchen – Küchenstudio\, Meelbaumstrasse 5\, Hannover\, 30165\, Germany
CATEGORIES:Kochkurs
END:VEVENT
BEGIN:VEVENT
DTSTART;TZID=Europe/Berlin:20211006T190000
DTEND;TZID=Europe/Berlin:20211006T210000
DTSTAMP:20260420T113108
CREATED:20210714T104525Z
LAST-MODIFIED:20210715T213407Z
UID:1265-1633546800-1633554000@olavs-kitchen.de
SUMMARY:Italienische Herbstküche Kochkurs
DESCRIPTION:Italienische Herbstküche\nPasta\, Pizza und Pesto zu kochen ist nicht ganz leicht\, aber es ist viel leichter als die meisten denken\, Komme mit mir auf eine Reise ins kulinarische Italien und schmecken die knusprige Pizza und leckere Pasta\, die Sonne\, das Meer und den Duft der herbstlichen Landschaft. \n  \nIm Kurs lernst du:\n\nPizza / Oktopus\nRoastbeef / Balsamicojus\nJoghurt Panna Cotta / Karamellisierte Kerne\n\nMITZUBRINGEN IST\n\nDie Zutaten kaufen die Teilnehmer selber ein.\nFünf Tage vor dem Kochkurs schicken wir dir eine Einkaufsliste – gerechnet für 2 Personen\, die Rezepte und den Zoomlink per Mail zu\n\nHINWEIS AN DIE TEILNEHMER\n\nDer Kurs findet auf Zoom statt. Zoom steht für viele Plattformen (Windows\, Mac OS\, iOS\, Android) zur Verfügung. \nUm am Kurs teilnehmen zu können\, ist ein Internetfähiges Gerät mit Zoom notwendig.\nKamera oder Mikrofon sind empfehlenswert\, aber nicht notwendig. \n\n 
URL:https://olavs-kitchen.de/kurs/italienische-herbstkueche-kochkurs/
CATEGORIES:Kochkurs,Online
ATTACH;FMTTYPE=image/jpeg:https://olavs-kitchen.de/wp-content/uploads/2021/05/italienische-herbstkueche.jpg
END:VEVENT
BEGIN:VEVENT
DTSTART;TZID=Europe/Berlin:20210929T190000
DTEND;TZID=Europe/Berlin:20210929T210000
DTSTAMP:20260420T113108
CREATED:20210714T104201Z
LAST-MODIFIED:20210817T200724Z
UID:1262-1632942000-1632949200@olavs-kitchen.de
SUMMARY:Sous Vide Kochkurs
DESCRIPTION:Sous Vide\nIn der Sterneküche nicht mehr wegzudenken\, durch das Garen im Vakuum\, bleiben Aroma und Fleischsaft erhalten\, Kräuter und Gewürze\, die dem Beutel beigefügt werden\, durchziehen das Gargut so intensiv\, wie sonst nicht zu erreichen. Wir zaubern mit Fleisch und Fisch ein 3 -Gänge Menü der Spitzenklasse. Halte hier für ein Vakuum und Sous Vide Garer bereit! \nIm Kurs lernst du:\n\nSeeteufel mit Serrano / Apfel / Fenchel\nRinderfilet / Avocado / Gurke / karamellisierte Teriyakisauce\nAnanas / Schokolade\n\nMITZUBRINGEN IST\n\nDie Zutaten kaufen die Teilnehmer selber ein.\nFünf Tage vor dem Kochkurs schicken wir dir eine Einkaufsliste – gerechnet für 2 Personen\, die Rezepte und den Zoomlink per Mail zu\n\nHINWEIS AN DIE TEILNEHMER\n\nDer Kurs findet auf Zoom statt. Zoom steht für viele Plattformen (Windows\, Mac OS\, iOS\, Android) zur Verfügung. \nUm am Kurs teilnehmen zu können\, ist ein Internetfähiges Gerät mit Zoom notwendig.\nKamera oder Mikrofon sind empfehlenswert\, aber nicht notwendig.
URL:https://olavs-kitchen.de/kurs/souse-vide-kochkurs/
CATEGORIES:Online
ATTACH;FMTTYPE=image/jpeg:https://olavs-kitchen.de/wp-content/uploads/2021/05/sous-vide.jpg
END:VEVENT
BEGIN:VEVENT
DTSTART;TZID=Europe/Berlin:20210922T190000
DTEND;TZID=Europe/Berlin:20210922T210000
DTSTAMP:20260420T113108
CREATED:20210714T103858Z
LAST-MODIFIED:20210715T215557Z
UID:1259-1632337200-1632344400@olavs-kitchen.de
SUMMARY:Street Food Kochkurs
DESCRIPTION:Street Food\nDer Trend passt zum Zeitgeist. Auf dem Markt\, auf die Hand!\nEmotional hoch aufgeladene Speisen\, serviert auf die Hand oder auf den Teller. Lass Dich inspirieren von Thaisuppe-Burger und etwas süßes. \nIm Kurs lernst du:\n\nHühnchen Thaisuppe\, Dips\nBurger Buns\, Saucen\, Grünzeug\nSüßkram\n\nMITZUBRINGEN IST\n\nDie Zutaten kaufen die Teilnehmer selber ein.\nFünf Tage vor dem Kochkurs schicken wir dir eine Einkaufsliste – gerechnet für 2 Personen\, die Rezepte und den Zoomlink per Mail zu\n\nHINWEIS AN DIE TEILNEHMER\n\nDer Kurs findet auf Zoom statt. Zoom steht für viele Plattformen (Windows\, Mac OS\, iOS\, Android) zur Verfügung. \nUm am Kurs teilnehmen zu können\, ist ein Internetfähiges Gerät mit Zoom notwendig.\nKamera oder Mikrofon sind empfehlenswert\, aber nicht notwendig.
URL:https://olavs-kitchen.de/kurs/street-food-kochkurs/
CATEGORIES:Online
ATTACH;FMTTYPE=image/jpeg:https://olavs-kitchen.de/wp-content/uploads/2021/05/streetfood.jpg
END:VEVENT
BEGIN:VEVENT
DTSTART;TZID=Europe/Berlin:20210811T190000
DTEND;TZID=Europe/Berlin:20210811T210000
DTSTAMP:20260420T113108
CREATED:20210714T102834Z
LAST-MODIFIED:20210802T205144Z
UID:1256-1628708400-1628715600@olavs-kitchen.de
SUMMARY:Happy Bowl Kochkurs
DESCRIPTION:In kurzen Schritten zur perfekten Bowl\n\nGesund & frisch aus einer Schüssel\nIn kurzen Schritten zur perfekten Bowl\nEine Bowl ist auch nur ein Salat!?!\n\nGemüse\, Rohkost\, Proteine\, gesunde Kohlenhydrate\, leckeres Dressing\, diese Mischung sortieren wir auch für das Auge und packen es in Schüsseln\, ganz nach Geschmack\, Lust und Laune- oder nach der Arbeit\, geht es eben auch darum was Kühlschrank und Speisekammer oder Supermarkt so hergeben. \nIch zeige Dir in diesem Kurs\, wie ich meine Happy Bowl am liebsten zubereite – und ein leichtes Dessert zum dahin schmelzen. In diesem Kurs werden Dir garantiert nie die Ideen für neue Geschmackserlebnisse ausgehen. \n  \nIm Kurs lernst Du die Zubereitung von:\n\nVinaigrette\, Dip\, Kräuteröl usw.\nRindfleisch\, Avocado & Co.\nJoghurt Panna Cotta & karamellisierte Kerne\n\nMITZUBRINGEN IST\n\nDie Zutaten kaufen die Teilnehmer selber ein.\nFünf Tage vor dem Kochkurs schicken wir dir eine Einkaufsliste – gerechnet für 2 Personen\, die Rezepte und den Zoomlink per Mail zu\n\nHINWEIS AN DIE TEILNEHMER\n\nDer Kurs findet auf Zoom statt. Zoom steht für viele Plattformen (Windows\, Mac OS\, iOS\, Android) zur Verfügung. \nUm am Kurs teilnehmen zu können\, ist ein Internetfähiges Gerät mit Zoom notwendig.\nKamera oder Mikrofon sind empfehlenswert\, aber nicht notwendig. \n\n 
URL:https://olavs-kitchen.de/kurs/happy-bowl-kochkurs/
CATEGORIES:Kochkurs,Online
ATTACH;FMTTYPE=image/jpeg:https://olavs-kitchen.de/wp-content/uploads/2021/07/happy_bowl.jpg
END:VEVENT
END:VCALENDAR