BEGIN:VCALENDAR
VERSION:2.0
PRODID:-//Olav&#039;s Kitchen - ECPv6.15.11//NONSGML v1.0//EN
CALSCALE:GREGORIAN
METHOD:PUBLISH
X-WR-CALNAME:Olav&#039;s Kitchen
X-ORIGINAL-URL:https://olavs-kitchen.de
X-WR-CALDESC:Veranstaltungen für Olav&#039;s Kitchen
REFRESH-INTERVAL;VALUE=DURATION:PT1H
X-Robots-Tag:noindex
X-PUBLISHED-TTL:PT1H
BEGIN:VTIMEZONE
TZID:Europe/Berlin
BEGIN:DAYLIGHT
TZOFFSETFROM:+0100
TZOFFSETTO:+0200
TZNAME:CEST
DTSTART:20250330T010000
END:DAYLIGHT
BEGIN:STANDARD
TZOFFSETFROM:+0200
TZOFFSETTO:+0100
TZNAME:CET
DTSTART:20251026T010000
END:STANDARD
BEGIN:DAYLIGHT
TZOFFSETFROM:+0100
TZOFFSETTO:+0200
TZNAME:CEST
DTSTART:20260329T010000
END:DAYLIGHT
BEGIN:STANDARD
TZOFFSETFROM:+0200
TZOFFSETTO:+0100
TZNAME:CET
DTSTART:20261025T010000
END:STANDARD
BEGIN:DAYLIGHT
TZOFFSETFROM:+0100
TZOFFSETTO:+0200
TZNAME:CEST
DTSTART:20270328T010000
END:DAYLIGHT
BEGIN:STANDARD
TZOFFSETFROM:+0200
TZOFFSETTO:+0100
TZNAME:CET
DTSTART:20271031T010000
END:STANDARD
END:VTIMEZONE
BEGIN:VEVENT
DTSTART;TZID=Europe/Berlin:20260521T190000
DTEND;TZID=Europe/Berlin:20260521T230000
DTSTAMP:20260420T095350
CREATED:20251208T172752Z
LAST-MODIFIED:20251208T172752Z
UID:1476-1779390000-1779404400@olavs-kitchen.de
SUMMARY:Argentinien
DESCRIPTION:Preis: 100€*\nDer argentinische Lifestyle besteht nicht nur aus Rindersteaks\, Tango und Gauchos! \nHier lernst du die Küche Argentiniens mit ihrer ganzen Vielfalt kennen und genießen. \n  \n*Alle Preise verstehen sich inkl. MwSt. und pro Person. Der Genussbeitrag beinhaltet in der Regel ein 4-Gänge-Menü inkl. aller Getränke. Irrtümer und Änderungen vorbehalten!\n  \n 
URL:https://olavs-kitchen.de/kurs/argentinien/
LOCATION:Olav’s Kitchen – Küchenstudio\, Meelbaumstrasse 5\, Hannover\, 30165\, Germany
CATEGORIES:Kochkurs
ORGANIZER;CN="Olav's Kitchen":MAILTO:olavskitchengmbh@gmail.com
END:VEVENT
BEGIN:VEVENT
DTSTART;TZID=Europe/Berlin:20260604T190000
DTEND;TZID=Europe/Berlin:20260604T230000
DTSTAMP:20260420T095350
CREATED:20251208T172610Z
LAST-MODIFIED:20251208T172610Z
UID:1481-1780599600-1780614000@olavs-kitchen.de
SUMMARY:Bowls am Puls der Zeit
DESCRIPTION:Preis: 80€*\nBowls sind nicht nur bunt und sehen gut aus! Hast du Lust auf kreative Bowls\, die sich auch super in den Alltag integrieren lassen und super gesund sind? \n  \n*Alle Preise verstehen sich inkl. MwSt. und pro Person. Der Genussbeitrag beinhaltet in der Regel ein 4-Gänge-Menü inkl. aller Getränke. Irrtümer und Änderungen vorbehalten!\n  \n 
URL:https://olavs-kitchen.de/kurs/bowls-am-puls-der-zeit/
LOCATION:Olav’s Kitchen – Küchenstudio\, Meelbaumstrasse 5\, Hannover\, 30165\, Germany
CATEGORIES:Kochkurs
ORGANIZER;CN="Olav's Kitchen":MAILTO:olavskitchengmbh@gmail.com
END:VEVENT
BEGIN:VEVENT
DTSTART;TZID=Europe/Berlin:20260611T190000
DTEND;TZID=Europe/Berlin:20260611T230000
DTSTAMP:20260420T095350
CREATED:20251208T172735Z
LAST-MODIFIED:20251208T172735Z
UID:1482-1781204400-1781218800@olavs-kitchen.de
SUMMARY:Lifestyle Grillparty 2
DESCRIPTION:Preis: 100€*\nFeuer frei! \nEinfach perfekt grillen lernen. \nSpaß haben\, genießen\, mit exquisiten Zutaten! \n*Alle Preise verstehen sich inkl. MwSt. und pro Person. Der Genussbeitrag beinhaltet in der Regel ein 4-Gänge-Menü inkl. aller Getränke. Irrtümer und Änderungen vorbehalten!\n  \n 
URL:https://olavs-kitchen.de/kurs/lifestyle-grillparty-2/
LOCATION:Olav’s Kitchen – Küchenstudio\, Meelbaumstrasse 5\, Hannover\, 30165\, Germany
CATEGORIES:Kochkurs
ORGANIZER;CN="Olav's Kitchen":MAILTO:olavskitchengmbh@gmail.com
END:VEVENT
END:VCALENDAR